BEGIN:VCALENDAR
VERSION:2.0
PRODID:-//T&amp;C Sports - ECPv6.15.14//NONSGML v1.0//EN
CALSCALE:GREGORIAN
METHOD:PUBLISH
X-WR-CALNAME:T&amp;C Sports
X-ORIGINAL-URL:https://www.tandcsports.org
X-WR-CALDESC:Events for T&amp;C Sports
REFRESH-INTERVAL;VALUE=DURATION:PT1H
X-Robots-Tag:noindex
X-PUBLISHED-TTL:PT1H
BEGIN:VTIMEZONE
TZID:America/New_York
BEGIN:DAYLIGHT
TZOFFSETFROM:-0500
TZOFFSETTO:-0400
TZNAME:EDT
DTSTART:20250309T070000
END:DAYLIGHT
BEGIN:STANDARD
TZOFFSETFROM:-0400
TZOFFSETTO:-0500
TZNAME:EST
DTSTART:20251102T060000
END:STANDARD
BEGIN:DAYLIGHT
TZOFFSETFROM:-0500
TZOFFSETTO:-0400
TZNAME:EDT
DTSTART:20260308T070000
END:DAYLIGHT
BEGIN:STANDARD
TZOFFSETFROM:-0400
TZOFFSETTO:-0500
TZNAME:EST
DTSTART:20261101T060000
END:STANDARD
BEGIN:DAYLIGHT
TZOFFSETFROM:-0500
TZOFFSETTO:-0400
TZNAME:EDT
DTSTART:20270314T070000
END:DAYLIGHT
BEGIN:STANDARD
TZOFFSETFROM:-0400
TZOFFSETTO:-0500
TZNAME:EST
DTSTART:20271107T060000
END:STANDARD
END:VTIMEZONE
BEGIN:VEVENT
DTSTART;TZID=America/New_York:20260220T090000
DTEND;TZID=America/New_York:20260223T210000
DTSTAMP:20260422T073303
CREATED:20250730T175551Z
LAST-MODIFIED:20260218T163837Z
UID:13610-1771578000-1771880400@www.tandcsports.org
SUMMARY:Dick's Sporting Goods Exclusive T&C Sports 20% Off Offer
DESCRIPTION:[vc_row type=”in_container” full_screen_row_position=”middle” column_margin=”default” column_direction=”default” column_direction_tablet=”default” column_direction_phone=”default” scene_position=”center” text_color=”dark” text_align=”left” row_border_radius=”none” row_border_radius_applies=”bg” row_position_desktop=”default” row_position_tablet=”inherit” row_position_phone=”inherit” overflow=”visible” overlay_strength=”0.3″ gradient_direction=”left_to_right” shape_divider_position=”bottom” bg_image_animation=”none”][vc_column column_padding=”no-extra-padding” column_padding_tablet=”inherit” column_padding_phone=”inherit” column_padding_position=”all” flex_gap_desktop=”10px” column_element_direction_desktop=”default” column_element_spacing=”default” desktop_text_alignment=”default” tablet_text_alignment=”default” phone_text_alignment=”default” background_color_opacity=”1″ background_hover_color_opacity=”1″ column_backdrop_filter=”none” column_shadow=”none” column_border_radius=”none” column_link_target=”_self” column_position=”default” gradient_direction=”left_to_right” overlay_strength=”0.3″ width=”1/1″ tablet_width_inherit=”default” animation_type=”default” bg_image_animation=”none” border_type=”simple” column_border_width=”none” column_border_style=”solid”][vc_column_text css=”” text_direction=”default”]Our partner DICK’S Sporting Goods is offering all our members an exclusive discount of 20% off throughout the store!  Be sure to grab all the things you will need for the upcoming season. To access exclusive savings\, click the coupon linked above. The coupon is valid in-store only and must be shown at the register during checkout by clicking on the hyperlink. \n\n\n\n\n\n\n\n\nCoupon Valid at the Austin Domain and Cedar Park Locations Only:\n\n\n\n\n\n\n\n\n\n\n\n\n\n\n\nAustin Domain Location Address: \n3210 Kramer Ln\, Austin\, TX 78758\n\n\n\n\n\n\n\n\n\nCedar Park Location Address: \n1104 C-Bar Ranch Trl\, Cedar Park\, TX 78613\n\n\n\n\n\n\n\nAs a reminder\, there are some brands in store that are not eligible for discount.  You can find these exclusions on our website at\, Dicks.com/Exclusions. \nNeed an item not available in store? \nAsk a Store Associate about ordering online through the ScoreMORE kiosk\, located in the store. You can still use the 20% coupon and receive free shipping\, valid only on your shop event weekend dates. \nCoupon Valid: FRIDAY\, Feb 20th – MONDAY\, Feb 23rd[/vc_column_text][nectar_btn size=”jumbo” button_style=”regular” button_color_2=”Extra-Color-1″ icon_family=”none” text=”DOWNLOAD COUPON” margin_top=”20px” url=”https://www.tandcsports.org/wp-content/uploads/sites/31/2026/02/DSG-022026.pdf”][/vc_column][/vc_row]
URL:https://www.tandcsports.org/tcevent/dicks-sporting-goods-exclusive-tc-sports-20-off-offer/
LOCATION:TX
CATEGORIES:Special Event
ATTACH;FMTTYPE=image/jpeg:https://www.tandcsports.org/wp-content/uploads/sites/31/2025/07/dicks1.jpeg
END:VEVENT
END:VCALENDAR